BEGIN:VCALENDAR
VERSION:2.0
PRODID:-//Ashish Sood - ECPv6.2.9//NONSGML v1.0//EN
CALSCALE:GREGORIAN
METHOD:PUBLISH
X-WR-CALNAME:Ashish Sood
X-ORIGINAL-URL:https://ashishsood.in
X-WR-CALDESC:Events for Ashish Sood
REFRESH-INTERVAL;VALUE=DURATION:PT1H
X-Robots-Tag:noindex
X-PUBLISHED-TTL:PT1H
BEGIN:VTIMEZONE
TZID:UTC
BEGIN:STANDARD
TZOFFSETFROM:+0000
TZOFFSETTO:+0000
TZNAME:UTC
DTSTART:20230101T000000
END:STANDARD
END:VTIMEZONE
BEGIN:VEVENT
DTSTART;VALUE=DATE:20230823
DTEND;VALUE=DATE:20230901
DTSTAMP:20260421T053610
CREATED:20230822T075024Z
LAST-MODIFIED:20230824T134202Z
UID:7777-1692748800-1693526399@ashishsood.in
SUMMARY:1001 Rakhi For Modi
DESCRIPTION:This Rakhi let’s celebrate Empowering her let’s weave the threads of empowerment with every knot.\n 1001 Rakhi for Modi\n#EmpowerHER
URL:https://ashishsood.in/event/1001-rakhi-for-modi/
ATTACH;FMTTYPE=image/jpeg:https://ashishsood.in/wp-content/uploads/2023/08/IMG_0678.jpg
END:VEVENT
BEGIN:VEVENT
DTSTART;VALUE=DATE:20230813
DTEND;VALUE=DATE:20230831
DTSTAMP:20260421T053610
CREATED:20230814T114610Z
LAST-MODIFIED:20230823T125123Z
UID:7754-1691884800-1693439999@ashishsood.in
SUMMARY:How India got modified
DESCRIPTION:
URL:https://ashishsood.in/event/how-india-got-modified/
ATTACH;FMTTYPE=image/jpeg:https://ashishsood.in/wp-content/uploads/2023/08/img15-scaled.jpg
END:VEVENT
END:VCALENDAR