BEGIN:VCALENDAR
VERSION:2.0
PRODID:-//Ashish Sood - ECPv6.2.9//NONSGML v1.0//EN
CALSCALE:GREGORIAN
METHOD:PUBLISH
X-ORIGINAL-URL:https://ashishsood.in
X-WR-CALDESC:Events for Ashish Sood
REFRESH-INTERVAL;VALUE=DURATION:PT1H
X-Robots-Tag:noindex
X-PUBLISHED-TTL:PT1H
BEGIN:VTIMEZONE
TZID:UTC
BEGIN:STANDARD
TZOFFSETFROM:+0000
TZOFFSETTO:+0000
TZNAME:UTC
DTSTART:20240101T000000
END:STANDARD
END:VTIMEZONE
BEGIN:VEVENT
DTSTART;VALUE=DATE:20240727
DTEND;VALUE=DATE:20240728
DTSTAMP:20260421T143525
CREATED:20240813T195417Z
LAST-MODIFIED:20240813T195417Z
UID:9340-1722038400-1722124799@ashishsood.in
SUMMARY:कारगिल विजय दिवस : मशाल जुलूस
DESCRIPTION:https://ashishsood.in/wp-content/uploads/2024/08/Final-2.0-1.mp4
URL:https://ashishsood.in/event/%e0%a4%95%e0%a4%be%e0%a4%b0%e0%a4%97%e0%a4%bf%e0%a4%b2-%e0%a4%b5%e0%a4%bf%e0%a4%9c%e0%a4%af-%e0%a4%a6%e0%a4%bf%e0%a4%b5%e0%a4%b8-%e0%a4%ae%e0%a4%b6%e0%a4%be%e0%a4%b2-%e0%a4%9c%e0%a5%81%e0%a4%b2/
END:VEVENT
END:VCALENDAR