BEGIN:VCALENDAR
VERSION:2.0
PRODID:-//Ashish Sood - ECPv6.2.9//NONSGML v1.0//EN
CALSCALE:GREGORIAN
METHOD:PUBLISH
X-WR-CALNAME:Ashish Sood
X-ORIGINAL-URL:https://ashishsood.in
X-WR-CALDESC:Events for Ashish Sood
REFRESH-INTERVAL;VALUE=DURATION:PT1H
X-Robots-Tag:noindex
X-PUBLISHED-TTL:PT1H
BEGIN:VTIMEZONE
TZID:UTC
BEGIN:STANDARD
TZOFFSETFROM:+0000
TZOFFSETTO:+0000
TZNAME:UTC
DTSTART:20240101T000000
END:STANDARD
END:VTIMEZONE
BEGIN:VEVENT
DTSTART;TZID=UTC:20240320T080000
DTEND;TZID=UTC:20240325T170000
DTSTAMP:20260421T074818
CREATED:20240320T120118Z
LAST-MODIFIED:20240321T070301Z
UID:9095-1710921600-1711386000@ashishsood.in
SUMMARY:राम राज्य का पहला गुलाल\, मोदी सरकार 400 पार
DESCRIPTION:Your name\n\n\n \nYour address\n\n\n \nYour phone number\n\n\n \nYour email
URL:https://ashishsood.in/event/%e0%a4%b0%e0%a4%be%e0%a4%ae-%e0%a4%b0%e0%a4%be%e0%a4%9c%e0%a5%8d%e0%a4%af-%e0%a4%95%e0%a4%be-%e0%a4%aa%e0%a4%b9%e0%a4%b2%e0%a4%be-%e0%a4%97%e0%a5%81%e0%a4%b2%e0%a4%be%e0%a4%b2-%e0%a4%ae%e0%a5%8b/
END:VEVENT
BEGIN:VEVENT
DTSTART;TZID=UTC:20240322T170000
DTEND;TZID=UTC:20240322T170000
DTSTAMP:20260421T074818
CREATED:20240321T140859Z
LAST-MODIFIED:20240321T141611Z
UID:9106-1711126800-1711126800@ashishsood.in
SUMMARY:Holi Milan
DESCRIPTION:
URL:https://ashishsood.in/event/holi-milan/
LOCATION:Prem Nagar
END:VEVENT
BEGIN:VEVENT
DTSTART;TZID=UTC:20240322T190000
DTEND;TZID=UTC:20240322T190000
DTSTAMP:20260421T074818
CREATED:20240321T141750Z
LAST-MODIFIED:20240321T141756Z
UID:9109-1711134000-1711134000@ashishsood.in
SUMMARY:Holi Milan
DESCRIPTION:
URL:https://ashishsood.in/event/holi-milan-2/
LOCATION:K-Block Krishna Park Ext.
END:VEVENT
END:VCALENDAR